BEGIN:VCALENDAR
VERSION:2.0
PRODID:-//Dom Kultury Stare Babice - ECPv6.15.10//NONSGML v1.0//EN
CALSCALE:GREGORIAN
METHOD:PUBLISH
X-WR-CALNAME:Dom Kultury Stare Babice
X-ORIGINAL-URL:https://domkultury-starebabice.pl
X-WR-CALDESC:Wydarzenia dla Dom Kultury Stare Babice
REFRESH-INTERVAL;VALUE=DURATION:PT1H
X-Robots-Tag:noindex
X-PUBLISHED-TTL:PT1H
BEGIN:VTIMEZONE
TZID:UTC
BEGIN:STANDARD
TZOFFSETFROM:+0000
TZOFFSETTO:+0000
TZNAME:UTC
DTSTART:20250101T000000
END:STANDARD
END:VTIMEZONE
BEGIN:VEVENT
DTSTART;TZID=UTC:20260425T180000
DTEND;TZID=UTC:20260425T183000
DTSTAMP:20260425T110329
CREATED:20260306T124439Z
LAST-MODIFIED:20260306T124439Z
UID:7571-1777140000-1777141800@domkultury-starebabice.pl
SUMMARY:Król i caryca- Teatr Klasyki Polskiej
DESCRIPTION:Romans ostatniego polskiego króla z carycą Katarzyną II nie był tajemnicą. To właśnie rosyjskiej imperatorowej Stanisław August Poniatowski zawdzięczał objęcie tronu w Warszawie. Spektakl „Król i caryca” w reżyserii Jerzego Zelnika powstał na podstawie wyboru korespondencji obojga władców. Między wierszami ich listów daje się wyczuć resztki dawnej namiętności. Więcej jest tu jednak dyplomatycznej gry\, która ostatecznie doprowadziła do zniknięcia Rzeczypospolitej z map Europy na ponad sto dwadzieścia lat. \nCzas trwania: 1h 10′ \nCena biletu na spektakl: 80 zł \nBilety można kupić pod linkiem: https://iframe124.biletyna.pl/ i w kasie Domu Kultury Stare Babice. \nDla posiadaczy Babickiej Karty Mieszkańca wydanej w Gminie Stare Babice – zniżka 10 %. \nDla posiadaczy Karty Dużej Rodziny wydanej w Gminie Stare Babice (numer karty KDR zaczynający się od następujących cyfr 1432072) oraz posiadaczy Ogólnopolskiej Karty Seniora wydanej w Gminie Stare Babice – zniżka 20 %. \nBilety ze zniżkami są do kupienia wyłącznie w kasie Domu Kultury po okazaniu Karty Dużej Rodziny lub Karty Seniora. \nKasa czynna pn.-śr. w godz. 8:00-20:00 oraz czw.-pt. w godz. 14:00-20:00
URL:https://domkultury-starebabice.pl/wydarzenie/krol-i-caryca-teatr-klasyki-polskiej/
LOCATION:Sala widowiskowa Domu Kultury Stare Babice\, ul. Południowa 2a\, Zielonki-Parcela\, mazowieckie
ATTACH;FMTTYPE=image/jpeg:https://domkultury-starebabice.pl/wp-content/uploads/2026/03/1617x908.jpg
END:VEVENT
BEGIN:VEVENT
DTSTART;TZID=UTC:20260426T160000
DTEND;TZID=UTC:20260426T160000
DTSTAMP:20260425T110329
CREATED:20260421T204911Z
LAST-MODIFIED:20260421T210259Z
UID:7965-1777219200-1777219200@domkultury-starebabice.pl
SUMMARY:Międzynarodowy Dzień Tańca
DESCRIPTION:Już 26 kwietnia obchodzimy Międzynarodowy Dzień Tańca. \nTo czas\, aby poczuć rytm\, uwolnić emocje i po prostu cieszyć się ruchem. \nZ tej okazji zapraszamy na to wyjątkowe wydarzenie\, w którym udział wezmą zespoły taneczne Domu Kultury Stare Babice: \n\nGrupy Happy Dance Studio\,\nBabki z Babic\,\nRytmy Świata\,\nGrupy Baletowe\,\nSolo Latino\,\n\nGościnnie wystąpi Zespół Pieśni i Tańca Tęcza \nZapraszamy do wspólnej zabawy! \nWstęp wolny.
URL:https://domkultury-starebabice.pl/wydarzenie/miedzynarodowy-dzien-tanca-2/
LOCATION:Sala widowiskowa Domu Kultury Stare Babice\, ul. Południowa 2a\, Zielonki-Parcela\, mazowieckie
ATTACH;FMTTYPE=image/jpeg:https://domkultury-starebabice.pl/wp-content/uploads/2026/04/Miedzynarodowy_Dzien_Tanca_www.jpg
END:VEVENT
BEGIN:VEVENT
DTSTART;TZID=UTC:20260503T170000
DTEND;TZID=UTC:20260503T170000
DTSTAMP:20260425T110329
CREATED:20260421T210815Z
LAST-MODIFIED:20260421T210847Z
UID:7970-1777827600-1777827600@domkultury-starebabice.pl
SUMMARY:Koncert z okazji Narodowego Święta Konstytucji 3 maja
DESCRIPTION:Serdecznie zapraszamy na uroczysty koncert upamiętniający jedno z najważniejszych wydarzeń w dziejach polskiej państwowości. Uchwalenie Konstytucji 3 maja. \nW programie wieczoru znajdą się m.in.: \n\nChór Aprobata pod dyrekcja Aleksandry Troczyńskiej – Rucińskiej\,\nUczestnicy Studia Wokalnego Domu Kultury Stare Babice\,\nBogumiła Ostrovnoi\,\nEwa Budny Orłowska\,\nKacper Suchecki\,\nMateusz Kalinowski oraz zaproszeni goście.\n\nNiech to muzyczno – artystyczne wydarzenie będzie chwilą refleksji nad nasza historią oraz radosnym celebrowaniem polskiej tożsamości. \nSerdecznie zapraszamy! \nBilety do pobrania już wkrótce! \nhttps://iframe124.biletyna.pl/
URL:https://domkultury-starebabice.pl/wydarzenie/koncert-z-okazji-narodowego-swieta-konstytucji-3-maja-3/
LOCATION:Sala widowiskowa Domu Kultury Stare Babice\, ul. Południowa 2a\, Zielonki-Parcela\, mazowieckie
ATTACH;FMTTYPE=image/jpeg:https://domkultury-starebabice.pl/wp-content/uploads/2026/04/Koncert_3_maja_www.jpg
END:VEVENT
BEGIN:VEVENT
DTSTART;TZID=UTC:20260509T180000
DTEND;TZID=UTC:20260509T193000
DTSTAMP:20260425T110329
CREATED:20260319T133053Z
LAST-MODIFIED:20260319T133053Z
UID:7650-1778349600-1778355000@domkultury-starebabice.pl
SUMMARY:Adam Snopek Show Przy Fortepianie
DESCRIPTION:Tytuł programu: „Od Bacha do AC/DC czyli o muzyce na wesoło”\nBrawurowe Muzyczne Show w żywiołowym wykonaniu pianisty Adama Snopka z dużą dawką humoru! Muzyczne quizy\, ciekawostki z życia największych artystów i niezliczona liczba zwrotów akcji – będziemy śpiewać\, śmiać się\, wzruszać i chwytać za głowę – jedno jest pewne nie przejdą Państwo obok tego wydarzenia obojętnie! Czekają na Was premierowe wykonania i masa muzycznych niespodzianek! Szalona zabawa w rytm największych muzycznych przebojów z Państwa aktywnym udziałem! Przekonają się Państwo między innymi\, że co trzeci utwór muzyki rozrywkowej zawiera w sobie fragment piosenki „Pieski małe dwa”\nADAM SNOPEK – niezwykle charyzmatyczny pianista i showman\, uczestnik największych festiwali kabaretowych w Polsce. Absolwent Wydziału Jazzu i Muzyki Rozrywkowej Akademii Muzycznej w Katowicach. Laureat I Nagrody na II Międzynarodowym Konkursie Improwizacji Jazzowej w Katowicach. Czynny muzyk sesyjny. \nCena biletu na spektakl: 50 zł\nBilety można kupić pod linkiem: https://iframe124.biletyna.pl/ i w kasie Domu Kultury Stare Babice.\nDla posiadaczy Babickiej Karty Mieszkańca wydanej w Gminie Stare Babice – zniżka 10 %.\nDla posiadaczy Karty Dużej Rodziny wydanej w Gminie Stare Babice (numer karty KDR zaczynający się od następujących cyfr 1432072) oraz posiadaczy Ogólnopolskiej Karty Seniora wydanej w Gminie Stare Babice – zniżka 20 %.\nBilety ze zniżkami są do kupienia wyłącznie w kasie Domu Kultury po okazaniu Karty Dużej Rodziny lub Karty Seniora.\nKasa czynna pn.-śr. w godz. 8:00-20:00 oraz czw.-pt. w godz. 14:00-20:00
URL:https://domkultury-starebabice.pl/wydarzenie/adam-snopek-show-przy-fortepianie/
LOCATION:Sala widowiskowa Domu Kultury Stare Babice\, ul. Południowa 2a\, Zielonki-Parcela\, mazowieckie
ATTACH;FMTTYPE=image/jpeg:https://domkultury-starebabice.pl/wp-content/uploads/2026/03/Adam_Snopek_Show_www-1.jpg
END:VEVENT
BEGIN:VEVENT
DTSTART;TZID=UTC:20260515T190000
DTEND;TZID=UTC:20260515T190000
DTSTAMP:20260425T110329
CREATED:20260414T144929Z
LAST-MODIFIED:20260414T152035Z
UID:7931-1778871600-1778871600@domkultury-starebabice.pl
SUMMARY:THE SKY IS THE LIMIT spotkanie autorskie z Maciejem Szamałkiem – fotografem lotniczym
DESCRIPTION:Zobacz świat z zupełnie innej perspektywy – tam\, gdzie kończy się ziemia\, a zaczyna przestrzeń pełna adrenaliny\, prędkości i precyzji.\nPoznaj kulisy fotografii air-to-air i historie uchwycone w locie przez Macieja Szamałka. \nTo podróż tam\, gdzie powstają zdjęcia samolotów widzianych z powietrza – z perspektywy dostępnej tylko dla nielicznych.\nSekundy. Precyzja. Zero miejsca na błąd. \nZajrzyj za kulisy fotografii air-to-air i zobacz\, jak powstają kadry\, które zatrzymują ruch w przestworzach. \nJeśli kręci Cię lotnictwo i mocne obrazy — tego nie możesz przegapić. \nLink do wydarzenia na FB: https://www.facebook.com/events/1541936517538284 \nZapraszamy do Sali Widowiskowej Domu Kultury Stare Babice.\nWSTĘP WOLNY!
URL:https://domkultury-starebabice.pl/wydarzenie/7931/
LOCATION:Sala widowiskowa Domu Kultury Stare Babice\, ul. Południowa 2a\, Zielonki-Parcela\, mazowieckie
ATTACH;FMTTYPE=image/jpeg:https://domkultury-starebabice.pl/wp-content/uploads/2026/04/The_Sky_is_the_limit_www.jpg
END:VEVENT
BEGIN:VEVENT
DTSTART;TZID=UTC:20260516T170000
DTEND;TZID=UTC:20260516T210000
DTSTAMP:20260425T110329
CREATED:20260304T095849Z
LAST-MODIFIED:20260304T095913Z
UID:7546-1778950800-1778965200@domkultury-starebabice.pl
SUMMARY:Noc Muzeów z Radiostacją Babice
DESCRIPTION:W 2023 obchodziliśmy jubileusz 100-lecia uruchomiania największej polsko-amerykańskiej inwestycji radiokomunikacyjnej okresu II RP – Transatlantyckiej Centrali Radiotelegraficznej (Radiostacji Babice).W sobotę 16 maja o każdej pełnej godzinie: 17.00\, 18.00\, 19.00\, rozpocznie się spacer wraz z przewodnikiem\, który opowie historię tego wspaniałego zabytku techniki (dziś malownicze ruiny w Lesie Bemowskim). Każdy spacer potrwa około 2 h (4 km). Grupa zwiedzająca to 25 osób (obowiązuje kolejność przyjścia na miejsce wydarzenia).Start: skrzyżowanie ul. płk K. Leskiego z ul. Radiową.
URL:https://domkultury-starebabice.pl/wydarzenie/7546/
LOCATION:mazowieckie
ATTACH;FMTTYPE=image/jpeg:https://domkultury-starebabice.pl/wp-content/uploads/2026/03/Noc_Muzeow_www.jpg
END:VEVENT
BEGIN:VEVENT
DTSTART;TZID=UTC:20260522T190000
DTEND;TZID=UTC:20260522T203000
DTSTAMP:20260425T110329
CREATED:20251211T125102Z
LAST-MODIFIED:20251214T113221Z
UID:6725-1779476400-1779481800@domkultury-starebabice.pl
SUMMARY:Michał Bajor - "Piosenki\, które lubię"
DESCRIPTION:Michał Bajor powraca z wyjątkowym recitalem „Piosenki\, które lubię”! Usłysz największe przeboje i muzyczne perełki wybrane przez samego Artystę! \nW ciągu ostatnich tras koncertowych wystąpił  z piosenkami z albumu „No\, a ja?”\, usłyszeli Państwo utwory wybrane z dawniejszego repertuaru Artysty\, przeplatane nowymi kompozycjami i tekstami Michała. W trakcie przeszło dwóch sezonów padało wiele pytań i muzycznych sugestii na temat tytułów piosenek\, które chcieliby Państwo usłyszeć. A zatem Michał Bajor\, z kilkuset napisanych dla niego utworów\, wybrał kolejnych kilkanaście\, które lubi szczególnie\, od „Chciałbym”\, przez „La Boheme”\, po „Moją miłość największą”. \nZapraszamy na koncerty\, których trasa potrwa od października 2025 do czerwca 2026 roku. \nBędzie też kilka nowych\, nieznanych Państwu muzyczno-literackich niespodzianek w wykonaniu Artysty. \n– czeka Cię wieczór pełen emocji i niespodzianek! 🎶✨ Nie przegap tej trasy! 🎟️ \nUWAGA!!! W związku ze specyficznym i kameralnym charakterem recitalu Michała Bajora uprzejmie prosimy o nie przyprowadzanie na koncert małych dzieci poniżej 6 roku życia.
URL:https://domkultury-starebabice.pl/wydarzenie/michal-bajor-piosenki-ktore-lubie/
LOCATION:Sala widowiskowa Domu Kultury Stare Babice\, ul. Południowa 2a\, Zielonki-Parcela\, mazowieckie
ATTACH;FMTTYPE=image/jpeg:https://domkultury-starebabice.pl/wp-content/uploads/2025/12/Michal_Bajor_www.jpg
END:VEVENT
BEGIN:VEVENT
DTSTART;TZID=UTC:20260531T120000
DTEND;TZID=UTC:20260531T130000
DTSTAMP:20260425T110329
CREATED:20260320T103417Z
LAST-MODIFIED:20260331T051418Z
UID:7664-1780228800-1780232400@domkultury-starebabice.pl
SUMMARY:Pan Kleks Teatr Muzyczny Syrenka
DESCRIPTION:Witajcie w Akademii Pana Kleksa – niezwykłej szkole\, gdzie lekcje zaskakują\, piegi mają magiczną moc\, a bajki są… obowiązkowym posiłkiem! Nowy uczeń\, Adam Niezgódka trafia pod skrzydła tajemniczego profesora Ambrożego Kleksa. Wraz z Panem Kleksem i resztą uczniów przeżywa wiele przygód wymagających odwagi\, kreatywności oraz wiary we własne możliwości. \n„Czy w szkole można uczyć się kleksografii\, leczyć piegi i rozmawiać ze zwierzętami? U Pana Kleksa – absolutnie tak! Spektakl pełen HUMORU i pięknej muzyki\, który pokazuje\, że nauka może być fascynującą przygodą\, jeśli towarzyszy jej ciekawość świata i odwaga bycia sobą. \nPan Kleks to widowisko pełne muzyki\, kolorów i fantazji. Wciągniemy Was do świata w którym nauka staje się przygodą\, a wyobraźnia staje się kluczem do wszystkiego. To spektakl dla tych\, którzy wierzą\, że szkoła nie musi być nudna\, a każdy z nas – niezależnie od wieku – ma w sobie coś wyjątkowego. Dla tych\, którzy chcą znów poczuć się jak dzieci.\nBo w akademii Pana Kleksa wszystko jest możliwe – wystarczy tylko otworzyć głowę… i serce. \nWystępują: Pan Kleks – nauczyciel i wychowawca potrafiący wszystko Adaś Niezgódka – jeden z najzdolniejszych uczniów\, prawa ręka profesora Szpak Mateusz – ulubieniec profesora oraz Alfred\, doktor Paj Chi Wo\, Motorniczy\, Dziewczynka z zapałkami\, Dręczyciele\, Fryzjer Filip\, Fryzjerzy\, Anatol\, Lunna\, Wilk\, Reks\, Artur\, Andersen\, Alojzy\nReżyseria: Sylwia Wysocka\nScenariusz: Izabella Klebańska\nMuzyka: Maria Holka\nKostiumy: Marta Tomaszewska\nScenografia: Bartosz Metelica\nRealizacja dźwięku i światła: Teatr Muzyczny Syrenka\nProdukcja: Teatr Muzyczny Syrenka\nAutor: Jan Brzechwa \nPo przedstawieniu w ramach obchodów Dnia Dziecka 2026 w godzinach 13:00–16:00 na dziedzińcu na najmłodszych czekać będzie mnóstwo bezpłatnych atrakcji: kolorowe zabawy\, kreatywne warsztaty\, dmuchańce oraz wiele innych niespodzianek inspirowanych magicznym światem Pana Kleksa.\nZapraszamy całe rodziny do wspólnego świętowania – będzie bajkowo\, radośnie i pełne uśmiechów! 🎈 \nCena biletu na spektakl: 35 zł\nBilety można kupić pod linkiem: https://iframe124.biletyna.pl/ i w kasie Domu Kultury Stare Babice.\nDla posiadaczy Babickiej Karty Mieszkańca wydanej w Gminie Stare Babice – zniżka 10 %.\nDla posiadaczy Karty Dużej Rodziny wydanej w Gminie Stare Babice (numer karty KDR zaczynający się od następujących cyfr 1432072) oraz posiadaczy Ogólnopolskiej Karty Seniora wydanej w Gminie Stare Babice – zniżka 20 %.\nBilety ze zniżkami są do kupienia wyłącznie w kasie Domu Kultury po okazaniu Karty Dużej Rodziny lub Karty Seniora.\nKasa czynna pn.-śr. w godz. 8:00-20:00 oraz czw.-pt. w godz. 14:00-20:00
URL:https://domkultury-starebabice.pl/wydarzenie/pan-kleks-teatr-muzyczny-syrenka/
LOCATION:Sala widowiskowa Domu Kultury Stare Babice\, ul. Południowa 2a\, Zielonki-Parcela\, mazowieckie
ATTACH;FMTTYPE=image/jpeg:https://domkultury-starebabice.pl/wp-content/uploads/2026/03/Kleks_www.jpg
END:VEVENT
BEGIN:VEVENT
DTSTART;TZID=UTC:20260531T130000
DTEND;TZID=UTC:20260531T160000
DTSTAMP:20260425T110329
CREATED:20260414T150114Z
LAST-MODIFIED:20260414T152258Z
UID:7938-1780232400-1780243200@domkultury-starebabice.pl
SUMMARY:Dzień Dziecka w Akademii Pana Kleksa 2026
DESCRIPTION:🎉✨ DZIEŃ DZIECKA w Akademii Pana Kleksa ✨🎉 \nWójt Gminy Stare Babice Sławomir Sumka i Dyrektor Domu Kultury Stare Babice Aleksandra Troczyńska- Rucińska serdecznie zapraszają na najbardziej magiczne wydarzenie tej wiosny! 🌈🪄 \nJuż w niedzielę\, 31 maja przeniesiemy się do świata wyobraźni – będzie kolorowo\, kreatywnie i absolutnie wyjątkowo! \n🎭 Startujemy o godz. 12:00 spektaklem Teatru Muzycznego Syrenka pt. „Pan Kleks” (spektakl biletowany: https://iframe124.biletyna.pl/) \nTo nie tylko lektura – to pełen emocji\, muzyki i magii spektakl dla całej rodziny! \n🎨 Od 13:00 do 16:00 – strefa atrakcji (WSTĘP WOLNY!) \nCzeka na Was prawdziwa Akademia pełna niespodzianek: \n✨ spotkanie z Panem Kleksem i wspólna nauka kleksografii \n✨ animacje i podróż przez niezwykły świat wyobraźni z Elsą i Spółką \n✨ guzikowe warsztaty – guziki w roli głównej z naszą Biblioteką Publiczną! 🔵🟢 \n✨ warsztaty artystyczne Fit Art Bike i naukowe z EDU FUN Academy \n✨ dmuchańce \n✨ fotobudka AI \n✨ futbol stołowy i masa dobrej zabawy \n  \n📍 Dziedziniec Domu Kultury Stare Babice\, ul Południowa 2a\, Zielonki-Parcela \n📅 niedziela\, 31 maja\, w godz. 13:00–16:00 \n  \nDzieci i dorośli zamienią się w prawdziwych uczniów Akademii – nie zabraknie też kleksowych piegów! 😉 \nTo kreatywna zabawa\, która rozwija wyobraźnię\, zdolności manualne i daje mnóstwo radości 🎨 \nZabierzcie dzieci\, rodzinę i dobry humor – resztą zajmiemy się my 💙 \nW Akademii  nic nie jest zwyczajne… nawet guziki mają swoją magię! ✨ \nPrzyjdźcie i dajcie się porwać guzikowej fantazji! 💫 \nTo będzie dzień\, który zostanie z Wami na długo! \nFB: https://fb.me/e/5DAhm0p96
URL:https://domkultury-starebabice.pl/wydarzenie/dzien-dziecka-w-akademii-pana-kleksa-2026/
LOCATION:Dziedziniec Domu Kultury Stare Babice\, ul. Południowa 2a\, Zielonki-Parcela
ATTACH;FMTTYPE=image/jpeg:https://domkultury-starebabice.pl/wp-content/uploads/2026/04/Dzien_Dziecka_www.jpg
END:VEVENT
END:VCALENDAR